Workbook
Name OLE_LINK1: '1 ое слуш.'!$I$194
Name OLE_LINK1: '2 ое слуш.2.12.10 '!$I$196
Name OLE_LINK1: '2 ое слуш.24.11.10'!$I$194
Name OLE_LINK2: '1 ое слуш.'!$J$194
Name OLE_LINK2: '2 ое слуш.2.12.10 '!$J$196
Name OLE_LINK2: '2 ое слуш.24.11.10'!$J$194

Sheet 1 ое слуш.
J1: Таблица №2
A3: № п/п | B3: Наименование мероприятий Программы | C3: Сроки выполнения | D3: Исполнители | E3: Источник расходов | F3: Объем финансирования (тыс. руб.)
F4: всего | G4: 2011 | H4: 2012 | I4: 2013 | J4: 2014 | K4: 2015
A5: 1 | B5: 2 | C5: 3 | D5: 4 | E5: 5 | F5: 6 | G5: 7 | H5: 8 | I5: 9 | J5: 10 | K5: 11
A6: 1. Подпрограмма "Развитие дошкольного образования"
A7: 1.1. Направление " Совершенствование содержания и технологий образования"
A8: 1.1.1. | B8: Финансовое обеспечение выполнения муниципального задания муниципальными дошкольными образовательными учреждениями, в том числе компенсация части платы, взимаемой за содержание ребенка (за исключением пуктов 1.3.1., 1.3.5., 1.4.1., 1.4.2., 1.4.3.) | C8: 2011-2015 | D8: Районные отделы образования, образовательные учреждения | E8: Средства областного бюджета (5222601) | F8: =G8+H8+I8+J8+K8 -> 135553.5 | G8: 28799.1 | H8: 26688.6 | I8: 26688.6 | J8: 26688.6 | K8: 26688.6
E9: Бюджет города (7951501) | F9: =G9+H9+I9+J9+K9 -> 7134179.2 | G9: =1555552.8-G22-G26-G28-G29-G30 -> 1446408.4 | H9: =1518921.1-H22-H26-H28-H29-H30 -> 1421942.7 | I9: =1473921.1-I22-I26-I28-I29-I30 -> 1421942.7 | J9: =1478921.1-J22-J26-J28-J29-J30 -> 1421942.7 | K9: =1453921.1-K22-K26-K28-K29-K30 -> 1421942.7
A10: 1.1.2. | B10: Финансовое обеспечение выполнения муниципального задания муниципальными автономными образовательными учреждениями | C10: 2011-2015 | D10: Районные отделы образования, образовательные учреждения | E10: Бюджет города | F10: =G10+H10+I10+J10+K10 -> 0 | G10: 0 | H10: 0 | I10: 0 | J10: 0 | K10: 0
A11: 1.1.3. | B11: Реализация проекта "Предшкольное образование" | C11: 2011-2015 | D11: Районные отделы образования, образовательные учреждения | E11: Финансирование не требуется
A12: 1.1.4. | B12: Реализация проекта «Непрерывность дошкольного и общего образования» | C12: 2011-2015 | D12: Районные отделы образования, образовательные учреждения | E12: Финансирование не требуется
A13: 1.1.5. | B13: Реализация проекта "Профилактика социальной дезадаптации детей дошкольного возраста" | C13: 2011-2015 | D13: Районные отделы образования, образовательные учреждения | E13: Финансирование не требуется
A14: 1.1.6. | B14: Реализация проекта "Психолого-педагогическое сопровождение детей с ослабленным здоровьем и особыми образовательными потребностями" | C14: 2011-2015 | D14: Районные отделы образования, образовательные учреждения | E14: Финансирование не требуется
A15: 1.2. Направление "Развитие системы обеспечения качества образования"
A16: 1.2.1. | B16: Реализация проекта "Инновационные и вариативные комплексные физкультурно-оздоровительные программы для дошкольников" | C16: 2011-2015 | D16: Районные отделы образования, образовательные учреждения | E16: Финансирование не требуется
A17: 1.2.2. | B17: Реализация проекта "Ранняя медико-психолого-педагогическая помощьи детям от 0 до 3 лет" | C17: 2011-2015 | D17: Районные отделы образования, образовательные учреждения | E17: Финансирование не требуется
A18: 1.2.3. | B18: Разработка и реализация проекта "Археология для малышей. Образовательная программа по ступенькам истории" | C18: 2011-2015 | D18: Районные отделы образования, образовательные учреждения | E18: Финансирование не требуется
A19: 1.2.4. | B19: Реализация проекта "Информационные технологии KidSmart" | C19: 2011-2013 | D19: Управление образования, районные отделы образования | E19: Финансирование не требуется
A20: 1.2.5. | B20: Реализация проекта "Безопасная дорога" совместно со службами Государственной инспекции безопасности дорожного движения | C20: 2011-2015 | D20: Управление образования, районные отделы образования, образовательные учреждения | E20: Финансирование не требуется
A21: 1.3. Направление "Капитальный ремонт и строительство дошкольных учреждений"
A22: 1.3.1. | B22: Разработка проектно-сметных документаций, капитальные ремонты, услуги надзорных органов, оснащение учреждений и благоустройство территорий учреждений в соответствии с реестром, утвержденным Управлением образования города | C22: 2011-2015 | D22: Управление образования, районные отделы образования, образовательные учреждения | E22: Бюджет города (7951501) | F22: =G22+H22+I22+J22+K22 -> 189250 | G22: 79250 | H22: 65000 | I22: 20000 | J22: 25000 | K22: 0
A23: 1.3.2. | B23: Разработка реестра объектов, требующих разработки проектно-сметной документации, капитального ремонта, оснащения учреждений и благоустройства территорий | C23: 2011 | D23: Управление образования, районные отделы образования | E23: Финансирование не требуется
A24: 1.3.3. | B24: Строительство новых и реконструкция зданий образовательных учреждений в соответствии с реестром, утвержденным Департаментом строительства | C24: 2011-2015 | D24: Департамент строительства | E24: Бюджет города (7951501) | F24: =G24+H24+I24+J24+K24 -> 907051 | G24: =1540+110128.3+1050.4+1605+1427.3 -> 115751 | H24: =50000+111000+110000 -> 271000 | I24: =110000+30000+50000 -> 190000 | J24: =70000+3800+102000+5000 -> 180800 | K24: =45000+8000+6000+6500+76000+8000 -> 149500
A25: 1.3.4. | B25: Разработка реестра объектов строительства и реконструкции зданий образовательных учреждений | C25: 2011 | D25: Управление образования, районные отделы образования | E25: Финансирование не требуется
A26: 1.3.5. | B26: Мероприятия по энергосбережению | C26: 2011-2015 | D26: Образовательные учреждения | E26: Бюджет города | F26: =G26+H26+I26+J26+K26 -> 0 | G26: 0 | H26: 0 | I26: 0 | J26: 0 | K26: 0
A27: 1.4. Направление "Обеспечение безопасности дошкольных учреждений"
A28: 1.4.1 | B28: Обслуживание кнопок тревожной сигнализации | C28: 2011-2015 | D28: Образовательные учреждения | E28: Бюджет города (7951501) | F28: =G28+H28+I28+J28+K28 -> 38730.8 | G28: 7136 | H28: 7898.7 | I28: 7898.7 | J28: 7898.7 | K28: 7898.7
A29: 1.4.2 | B29: Обслуживание автоматической пожарной сигнализации | C29: 2011-2015 | D29: Образовательные учреждения | E29: Бюджет города (7951501) | F29: =G29+H29+I29+J29+K29 -> 26103.2 | G29: 4827.6 | H29: 5318.9 | I29: 5318.9 | J29: 5318.9 | K29: 5318.9
A30: 1.4.3 | B30: Реализация мероприятий по предписаниям Госпожнадзора | C30: 2011-2015 | D30: Образовательные учреждения | E30: Бюджет города (7951501) | F30: =G30+H30+I30+J30+K30 -> 92974 | G30: 17930.8 | H30: 18760.8 | I30: 18760.8 | J30: 18760.8 | K30: 18760.8
A31: Итоги по подпрограмме 1
A32: а | B32: ГРБС Управление образования города | F32: =G32+H32+I32+J32+K32 -> 7616790.7 | G32: =G33+G34+G35 -> 1584351.9 | H32: =H33+H34+H35 -> 1545609.7 | I32: =I33+I34+I35 -> 1500609.7 | J32: =J33+J34+J35 -> 1505609.7 | K32: =K33+K34+K35 -> 1480609.7
A33: б | B33: средства федерального бюджета | F33: =G33+H33+I33+J33+K33 -> 0 | G33: 0 | H33: 0 | I33: 0 | J33: 0 | K33: 0
A34: в | B34: средства областного бюджета | F34: =G34+H34+I34+J34+K34 -> 135553.5 | G34: =G8 -> 28799.1 | H34: =H8 -> 26688.6 | I34: =I8 -> 26688.6 | J34: =J8 -> 26688.6 | K34: =K8 -> 26688.6
A35: г | B35: бюджет города | F35: =G35+H35+I35+J35+K35 -> 7481237.2 | G35: =G9+G10+G22+G26+G28+G29+G30 -> 1555552.8 | H35: =H9+H10+H22+H26+H28+H29+H30 -> 1518921.1 | I35: =I9+I10+I22+I26+I28+I29+I30 -> 1473921.1 | J35: =J9+J10+J22+J26+J28+J29+J30 -> 1478921.1 | K35: =K9+K10+K22+K26+K28+K29+K30 -> 1453921.1
A36: д | B36: ГРБС Департамент координации и перспективного развития города | F36: =G36+H36+I36+J36+K36 -> 907051 | G36: =G37+G38+G39 -> 115751 | H36: =H37+H38+H39 -> 271000 | I36: =I37+I38+I39 -> 190000 | J36: =J37+J38+J39 -> 180800 | K36: =K37+K38+K39 -> 149500
A37: е | B37: средства федерального бюджета | F37: =G37+H37+I37+J37+K37 -> 0 | G37: 0 | H37: 0 | I37: 0 | J37: 0 | K37: 0
A38: ж | B38: средства областного бюджета | F38: =G38+H38+I38+J38+K38 -> 0 | G38: 0 | H38: 0 | I38: 0 | J38: 0 | K38: 0
A39: з | B39: бюджет города | F39: =G39+H39+I39+J39+K39 -> 907051 | G39: =G24 -> 115751 | H39: =H24 -> 271000 | I39: =I24 -> 190000 | J39: =J24 -> 180800 | K39: =K24 -> 149500
A40: и | B40: Подпрограмма 1 | F40: =G40+H40+I40+J40+K40 -> 8523841.7 | G40: =G32+G36 -> 1700102.9 | H40: =H32+H36 -> 1816609.7 | I40: =I32+I36 -> 1690609.7 | J40: =J32+J36 -> 1686409.7 | K40: =K32+K36 -> 1630109.7
A41: к | B41: средства федерального бюджета | F41: =G41+H41+I41+J41+K41 -> 0 | G41: =G33+G37 -> 0 | H41: =H33+H37 -> 0 | I41: =I33+I37 -> 0 | J41: =J33+J37 -> 0 | K41: =K33+K37 -> 0
...

Sheet 2 ое слуш.24.11.10
J1: Таблица №2
A3: № п/п | B3: Наименование мероприятий Программы | C3: Сроки выполнения | D3: Исполнители | E3: Источник расходов | F3: Объем финансирования (тыс. руб.)
F4: всего | G4: 2011 | H4: 2012 | I4: 2013 | J4: 2014 | K4: 2015
A5: 1 | B5: 2 | C5: 3 | D5: 4 | E5: 5 | F5: 6 | G5: 7 | H5: 8 | I5: 9 | J5: 10 | K5: 11
A6: 1. Подпрограмма "Развитие дошкольного образования"
A7: 1.1. Направление " Совершенствование содержания и технологий образования"
A8: 1.1.1. | B8: Финансовое обеспечение выполнения муниципального задания муниципальными дошкольными образовательными учреждениями, в том числе компенсация части платы, взимаемой за содержание ребенка (за исключением пуктов 1.3.1., 1.3.5., 1.4.1., 1.4.2., 1.4.3.) | C8: 2011-2015 | D8: Районные отделы образования, образовательные учреждения | E8: Средства областного бюджета (5222601) | F8: =G8+H8+I8+J8+K8 -> 143995.5 | G8: 28799.1 | H8: 28799.1 | I8: 28799.1 | J8: 28799.1 | K8: 28799.1
E9: Бюджет города (7951501) | F9: =G9+H9+I9+J9+K9 -> 7378093.7 | G9: =1564477.1-G22-G26-G28-G29-G30 -> 1455332.7 | H9: =1639555.8-H22-H26-H28-H29-H30 -> 1456718.3 | I9: =1740428.7-I22-I26-I28-I29-I30 -> 1488680.9 | J9: =1740428.7-J22-J26-J28-J29-J30 -> 1488680.9 | K9: =1740428.7-K22-K26-K28-K29-K30 -> 1488680.9
A10: 1.1.2. | B10: Финансовое обеспечение выполнения муниципального задания муниципальными автономными образовательными учреждениями | C10: 2011-2015 | D10: Районные отделы образования, образовательные учреждения | E10: Бюджет города | F10: =G10+H10+I10+J10+K10 -> 0 | G10: 0 | H10: 0 | I10: 0 | J10: 0 | K10: 0
A11: 1.1.3. | B11: Реализация проекта "Предшкольное образование" | C11: 2011-2015 | D11: Районные отделы образования, образовательные учреждения | E11: Финансирование не требуется
A12: 1.1.4. | B12: Реализация проекта «Непрерывность дошкольного и общего образования» | C12: 2011-2015 | D12: Районные отделы образования, образовательные учреждения | E12: Финансирование не требуется
A13: 1.1.5. | B13: Реализация проекта "Профилактика социальной дезадаптации детей дошкольного возраста" | C13: 2011-2015 | D13: Районные отделы образования, образовательные учреждения | E13: Финансирование не требуется
A14: 1.1.6. | B14: Реализация проекта "Психолого-педагогическое сопровождение детей с ослабленным здоровьем и особыми образовательными потребностями" | C14: 2011-2015 | D14: Районные отделы образования, образовательные учреждения | E14: Финансирование не требуется
A15: 1.2. Направление "Развитие системы обеспечения качества образования"
A16: 1.2.1. | B16: Реализация проекта "Инновационные и вариативные комплексные физкультурно-оздоровительные программы для дошкольников" | C16: 2011-2015 | D16: Районные отделы образования, образовательные учреждения | E16: Финансирование не требуется
A17: 1.2.2. | B17: Реализация проекта "Ранняя медико-психолого-педагогическая помощьи детям от 0 до 3 лет" | C17: 2011-2015 | D17: Районные отделы образования, образовательные учреждения | E17: Финансирование не требуется
A18: 1.2.3. | B18: Разработка и реализация проекта "Археология для малышей. Образовательная программа по ступенькам истории" | C18: 2011-2015 | D18: Районные отделы образования, образовательные учреждения | E18: Финансирование не требуется
A19: 1.2.4. | B19: Реализация проекта "Информационные технологии KidSmart" | C19: 2011-2013 | D19: Управление образования, районные отделы образования | E19: Финансирование не требуется
A20: 1.2.5. | B20: Реализация проекта "Безопасная дорога" совместно со службами Государственной инспекции безопасности дорожного движения | C20: 2011-2015 | D20: Управление образования, районные отделы образования, образовательные учреждения | E20: Финансирование не требуется
A21: 1.3. Направление "Капитальный ремонт и строительство дошкольных учреждений"
A22: 1.3.1. | B22: Разработка проектно-сметных документаций, капитальные ремонты, услуги надзорных органов, оснащение учреждений и благоустройство территорий учреждений в соответствии с реестром, утвержденным Управлением образования города | C22: 2011-2015 | D22: Управление образования, районные отделы образования, образовательные учреждения | E22: Бюджет города (7951501) | F22: =G22+H22+I22+J22+K22 -> 884250 | G22: 79250 | H22: 151000 | I22: 218000 | J22: 218000 | K22: 218000
A23: 1.3.2. | B23: Разработка реестра объектов, требующих разработки проектно-сметной документации, капитального ремонта, оснащения учреждений и благоустройства территорий | C23: 2011 | D23: Управление образования, районные отделы образования | E23: Финансирование не требуется
A24: 1.3.3. | B24: Строительство новых и реконструкция зданий образовательных учреждений в соответствии с реестром, утвержденным Департаментом строительства | C24: 2011-2015 | D24: Департамент строительства | E24: Бюджет города (7951501) | F24: =G24+H24+I24+J24+K24 -> 907051 | G24: =1540+110128.3+1050.4+1605+1427.3 -> 115751 | H24: =50000+111000+110000 -> 271000 | I24: =110000+30000+50000 -> 190000 | J24: =70000+3800+102000+5000 -> 180800 | K24: =45000+8000+6000+6500+76000+8000 -> 149500
A25: 1.3.4. | B25: Разработка реестра объектов строительства и реконструкции зданий образовательных учреждений | C25: 2011 | D25: Управление образования, районные отделы образования | E25: Финансирование не требуется
A26: 1.3.5. | B26: Мероприятия по энергосбережению | C26: 2011-2015 | D26: Образовательные учреждения | E26: Бюджет города | F26: =G26+H26+I26+J26+K26 -> 0 | G26: 0 | H26: 0 | I26: 0 | J26: 0 | K26: 0
A27: 1.4. Направление "Обеспечение безопасности дошкольных учреждений"
A28: 1.4.1 | B28: Обслуживание кнопок тревожной сигнализации | C28: 2011-2015 | D28: Образовательные учреждения | E28: Бюджет города (7951501) | F28: =G28+H28+I28+J28+K28 -> 38903.2 | G28: 7136 | H28: 7599.8 | I28: 8055.8 | J28: 8055.8 | K28: 8055.8
A29: 1.4.2 | B29: Обслуживание автоматической пожарной сигнализации | C29: 2011-2015 | D29: Образовательные учреждения | E29: Бюджет города (7951501) | F29: =G29+H29+I29+J29+K29 -> 26318.7 | G29: 4827.6 | H29: 5141.4 | I29: 5449.9 | J29: 5449.9 | K29: 5449.9
A30: 1.4.3 | B30: Реализация мероприятий по предписаниям Госпожнадзора | C30: 2011-2015 | D30: Образовательные учреждения | E30: Бюджет города (7951501) | F30: =G30+H30+I30+J30+K30 -> 97753.4 | G30: 17930.8 | H30: 19096.3 | I30: 20242.1 | J30: 20242.1 | K30: 20242.1
A31: Итоги по подпрограмме 1
A32: а | B32: ГРБС Управление образования города | F32: =G32+H32+I32+J32+K32 -> 8569314.5 | G32: =G33+G34+G35 -> 1593276.2 | H32: =H33+H34+H35 -> 1668354.9 | I32: =I33+I34+I35 -> 1769227.8 | J32: =J33+J34+J35 -> 1769227.8 | K32: =K33+K34+K35 -> 1769227.8
A33: б | B33: средства федерального бюджета | F33: =G33+H33+I33+J33+K33 -> 0 | G33: 0 | H33: 0 | I33: 0 | J33: 0 | K33: 0
A34: в | B34: средства областного бюджета | F34: =G34+H34+I34+J34+K34 -> 143995.5 | G34: =G8 -> 28799.1 | H34: =H8 -> 28799.1 | I34: =I8 -> 28799.1 | J34: =J8 -> 28799.1 | K34: =K8 -> 28799.1
A35: г | B35: бюджет города | F35: =G35+H35+I35+J35+K35 -> 8425319 | G35: =G9+G10+G22+G26+G28+G29+G30 -> 1564477.1 | H35: =H9+H10+H22+H26+H28+H29+H30 -> 1639555.8 | I35: =I9+I10+I22+I26+I28+I29+I30 -> 1740428.7 | J35: =J9+J10+J22+J26+J28+J29+J30 -> 1740428.7 | K35: =K9+K10+K22+K26+K28+K29+K30 -> 1740428.7
A36: д | B36: ГРБС Департамент координации и перспективного развития города | F36: =G36+H36+I36+J36+K36 -> 907051 | G36: =G37+G38+G39 -> 115751 | H36: =H37+H38+H39 -> 271000 | I36: =I37+I38+I39 -> 190000 | J36: =J37+J38+J39 -> 180800 | K36: =K37+K38+K39 -> 149500
A37: е | B37: средства федерального бюджета | F37: =G37+H37+I37+J37+K37 -> 0 | G37: 0 | H37: 0 | I37: 0 | J37: 0 | K37: 0
A38: ж | B38: средства областного бюджета | F38: =G38+H38+I38+J38+K38 -> 0 | G38: 0 | H38: 0 | I38: 0 | J38: 0 | K38: 0
A39: з | B39: бюджет города | F39: =G39+H39+I39+J39+K39 -> 907051 | G39: =G24 -> 115751 | H39: =H24 -> 271000 | I39: =I24 -> 190000 | J39: =J24 -> 180800 | K39: =K24 -> 149500
A40: и | B40: Подпрограмма 1 | F40: =G40+H40+I40+J40+K40 -> 9476365.5 | G40: =G32+G36 -> 1709027.2 | H40: =H32+H36 -> 1939354.9 | I40: =I32+I36 -> 1959227.8 | J40: =J32+J36 -> 1950027.8 | K40: =K32+K36 -> 1918727.8
A41: к | B41: средства федерального бюджета | F41: =G41+H41+I41+J41+K41 -> 0 | G41: =G33+G37 -> 0 | H41: =H33+H37 -> 0 | I41: =I33+I37 -> 0 | J41: =J33+J37 -> 0 | K41: =K33+K37 -> 0
...

Sheet 2 ое слуш.2.12.10 
J1: Таблица №2
A3: № п/п | B3: Наименование мероприятий Программы | C3: Сроки выполнения | D3: Исполнители | E3: Источник расходов | F3: Объем финансирования (тыс. руб.)
F4: всего | G4: 2011 | H4: 2012 | I4: 2013 | J4: 2014 | K4: 2015
A5: 1 | B5: 2 | C5: 3 | D5: 4 | E5: 5 | F5: 6 | G5: 7 | H5: 8 | I5: 9 | J5: 10 | K5: 11
A6: 1. Подпрограмма "Развитие дошкольного образования"
A7: 1.1. Направление " Совершенствование содержания и технологий образования"
A8: 1.1.1. | B8: Финансовое обеспечение выполнения муниципального задания муниципальными дошкольными образовательными учреждениями, в том числе компенсация части платы, взимаемой за содержание ребенка (за исключением пуктов 1.3.1., 1.3.5., 1.4.1., 1.4.2., 1.4.3.) | C8: 2011-2015 | D8: Районные отделы образования, образовательные учреждения | E8: Средства областного бюджета (5222601) | F8: =G8+H8+I8+J8+K8 -> 143995.5 | G8: 28799.1 | H8: 28799.1 | I8: 28799.1 | J8: 28799.1 | K8: 28799.1
E9: Бюджет города (7951501) | F9: =G9+H9+I9+J9+K9 -> 7378093.7 | G9: =1564477.1-G22-G26-G28-G29-G30 -> 1455332.7 | H9: =1639555.8-H22-H26-H28-H29-H30 -> 1456718.3 | I9: =1740428.7-I22-I26-I28-I29-I30 -> 1488680.9 | J9: =1740428.7-J22-J26-J28-J29-J30 -> 1488680.9 | K9: =1740428.7-K22-K26-K28-K29-K30 -> 1488680.9
A10: 1.1.2. | B10: Финансовое обеспечение выполнения муниципального задания муниципальными автономными образовательными учреждениями | C10: 2011-2015 | D10: Районные отделы образования, образовательные учреждения | E10: Бюджет города | F10: =G10+H10+I10+J10+K10 -> 0 | G10: 0 | H10: 0 | I10: 0 | J10: 0 | K10: 0
A11: 1.1.3. | B11: Реализация проекта "Предшкольное образование" | C11: 2011-2015 | D11: Районные отделы образования, образовательные учреждения | E11: Финансирование не требуется
A12: 1.1.4. | B12: Реализация проекта «Непрерывность дошкольного и общего образования» | C12: 2011-2015 | D12: Районные отделы образования, образовательные учреждения | E12: Финансирование не требуется
A13: 1.1.5. | B13: Реализация проекта "Профилактика социальной дезадаптации детей дошкольного возраста" | C13: 2011-2015 | D13: Районные отделы образования, образовательные учреждения | E13: Финансирование не требуется
A14: 1.1.6. | B14: Реализация проекта "Психолого-педагогическое сопровождение детей с ослабленным здоровьем и особыми образовательными потребностями" | C14: 2011-2015 | D14: Районные отделы образования, образовательные учреждения | E14: Финансирование не требуется
A15: 1.2. Направление "Развитие системы обеспечения качества образования"
A16: 1.2.1. | B16: Реализация проекта "Инновационные и вариативные комплексные физкультурно-оздоровительные программы для дошкольников" | C16: 2011-2015 | D16: Районные отделы образования, образовательные учреждения | E16: Финансирование не требуется
A17: 1.2.2. | B17: Реализация проекта "Ранняя медико-психолого-педагогическая помощьи детям от 0 до 3 лет" | C17: 2011-2015 | D17: Районные отделы образования, образовательные учреждения | E17: Финансирование не требуется
A18: 1.2.3. | B18: Разработка и реализация проекта "Археология для малышей. Образовательная программа по ступенькам истории" | C18: 2011-2015 | D18: Районные отделы образования, образовательные учреждения | E18: Финансирование не требуется
A19: 1.2.4. | B19: Реализация проекта "Информационные технологии KidSmart" | C19: 2011-2013 | D19: Управление образования, районные отделы образования | E19: Финансирование не требуется
A20: 1.2.5. | B20: Реализация проекта "Безопасная дорога" совместно со службами Государственной инспекции безопасности дорожного движения | C20: 2011-2015 | D20: Управление образования, районные отделы образования, образовательные учреждения | E20: Финансирование не требуется
A21: 1.3. Направление "Капитальный ремонт и строительство дошкольных учреждений"
A22: 1.3.1. | B22: Разработка проектно-сметных документаций, капитальные ремонты, услуги надзорных органов, оснащение учреждений и благоустройство территорий учреждений в соответствии с реестром, утвержденным Управлением образования города | C22: 2011-2015 | D22: Управление образования, районные отделы образования, образовательные учреждения | E22: Бюджет города (7951501) | F22: =G22+H22+I22+J22+K22 -> 884250 | G22: 79250 | H22: 151000 | I22: 218000 | J22: 218000 | K22: 218000
A23: 1.3.2. | B23: Разработка реестра объектов, требующих разработки проектно-сметной документации, капитального ремонта, оснащения учреждений и благоустройства территорий | C23: 2011 | D23: Управление образования, районные отделы образования | E23: Финансирование не требуется
A24: 1.3.3. | B24: Строительство новых и реконструкция зданий образовательных учреждений в соответствии с реестром, утвержденным Департаментом строительства | C24: 2011-2015 | D24: Департамент строительства | E24: Бюджет города (7951501) | F24: =G24+H24+I24+J24+K24 -> 907051 | G24: =1540+110128.3+1050.4+1605+1427.3 -> 115751 | H24: =50000+111000+110000 -> 271000 | I24: =110000+30000+50000 -> 190000 | J24: =70000+3800+102000+5000 -> 180800 | K24: =45000+8000+6000+6500+76000+8000 -> 149500
A25: 1.3.4. | B25: Разработка реестра объектов строительства и реконструкции зданий образовательных учреждений | C25: 2011 | D25: Управление образования, районные отделы образования | E25: Финансирование не требуется
A26: 1.3.5. | B26: Мероприятия по энергосбережению | C26: 2011-2015 | D26: Образовательные учреждения | E26: Бюджет города | F26: =G26+H26+I26+J26+K26 -> 0 | G26: 0 | H26: 0 | I26: 0 | J26: 0 | K26: 0
A27: 1.4. Направление "Обеспечение безопасности дошкольных учреждений"
A28: 1.4.1 | B28: Обслуживание кнопок тревожной сигнализации | C28: 2011-2015 | D28: Образовательные учреждения | E28: Бюджет города (7951501) | F28: =G28+H28+I28+J28+K28 -> 38903.2 | G28: 7136 | H28: 7599.8 | I28: 8055.8 | J28: 8055.8 | K28: 8055.8
A29: 1.4.2 | B29: Обслуживание автоматической пожарной сигнализации | C29: 2011-2015 | D29: Образовательные учреждения | E29: Бюджет города (7951501) | F29: =G29+H29+I29+J29+K29 -> 26318.7 | G29: 4827.6 | H29: 5141.4 | I29: 5449.9 | J29: 5449.9 | K29: 5449.9
A30: 1.4.3 | B30: Реализация мероприятий по предписаниям Госпожнадзора | C30: 2011-2015 | D30: Образовательные учреждения | E30: Бюджет города (7951501) | F30: =G30+H30+I30+J30+K30 -> 97753.4 | G30: 17930.8 | H30: 19096.3 | I30: 20242.1 | J30: 20242.1 | K30: 20242.1
A31: Итоги по подпрограмме 1
A32: а | B32: ГРБС Управление образования города | F32: =G32+H32+I32+J32+K32 -> 8569314.5 | G32: =G33+G34+G35 -> 1593276.2 | H32: =H33+H34+H35 -> 1668354.9 | I32: =I33+I34+I35 -> 1769227.8 | J32: =J33+J34+J35 -> 1769227.8 | K32: =K33+K34+K35 -> 1769227.8
A33: б | B33: средства федерального бюджета | F33: =G33+H33+I33+J33+K33 -> 0 | G33: 0 | H33: 0 | I33: 0 | J33: 0 | K33: 0
A34: в | B34: средства областного бюджета | F34: =G34+H34+I34+J34+K34 -> 143995.5 | G34: =G8 -> 28799.1 | H34: =H8 -> 28799.1 | I34: =I8 -> 28799.1 | J34: =J8 -> 28799.1 | K34: =K8 -> 28799.1
A35: г | B35: бюджет города | F35: =G35+H35+I35+J35+K35 -> 8425319 | G35: =G9+G10+G22+G26+G28+G29+G30 -> 1564477.1 | H35: =H9+H10+H22+H26+H28+H29+H30 -> 1639555.8 | I35: =I9+I10+I22+I26+I28+I29+I30 -> 1740428.7 | J35: =J9+J10+J22+J26+J28+J29+J30 -> 1740428.7 | K35: =K9+K10+K22+K26+K28+K29+K30 -> 1740428.7
A36: д | B36: ГРБС Департамент координации и перспективного развития города | F36: =G36+H36+I36+J36+K36 -> 907051 | G36: =G37+G38+G39 -> 115751 | H36: =H37+H38+H39 -> 271000 | I36: =I37+I38+I39 -> 190000 | J36: =J37+J38+J39 -> 180800 | K36: =K37+K38+K39 -> 149500
A37: е | B37: средства федерального бюджета | F37: =G37+H37+I37+J37+K37 -> 0 | G37: 0 | H37: 0 | I37: 0 | J37: 0 | K37: 0
A38: ж | B38: средства областного бюджета | F38: =G38+H38+I38+J38+K38 -> 0 | G38: 0 | H38: 0 | I38: 0 | J38: 0 | K38: 0
A39: з | B39: бюджет города | F39: =G39+H39+I39+J39+K39 -> 907051 | G39: =G24 -> 115751 | H39: =H24 -> 271000 | I39: =I24 -> 190000 | J39: =J24 -> 180800 | K39: =K24 -> 149500
A40: и | B40: Подпрограмма 1 | F40: =G40+H40+I40+J40+K40 -> 9476365.5 | G40: =G32+G36 -> 1709027.2 | H40: =H32+H36 -> 1939354.9 | I40: =I32+I36 -> 1959227.8 | J40: =J32+J36 -> 1950027.8 | K40: =K32+K36 -> 1918727.8
A41: к | B41: средства федерального бюджета | F41: =G41+H41+I41+J41+K41 -> 0 | G41: =G33+G37 -> 0 | H41: =H33+H37 -> 0 | I41: =I33+I37 -> 0 | J41: =J33+J37 -> 0 | K41: =K33+K37 -> 0
...

Sheet Реализация
A1: ГОДОВОЙ ОТЧЕТ О РЕАЛИЗАЦИИ МУНИЦИПАЛЬНОЙ ПРОГРАММЫ
A2: "Развитие системы образования города Ростова-на-Дону"
A3: за 2015 год
J4: тыс.руб.
A5: № п/п | B5: Мероприятие | C5: Муниципальный заказчик, исполнитель | D5: Сроки выполнения | E5: Источник финансирования | F5: Плановый объем финансового обеспечения на 2015 год | H5: Плановый объем финансового обеспечения на 2011 год | I5: Исполнено (кассовый расход) за 2015 год | J5: Причины неисполнения плана
G6: в том числе на отчетный период
A7: 1 | B7: 2 | C7: 3 | D7: 4 | E7: 5 | F7: 6 | G7: 7 | H7: 8 | I7: 7 | J7: 8
A8: Итого по Программе в целом
E9: Всего, в том числе: | F9: =F14+F19+F24 -> #REF! | G9: =G14+G19 -> #REF! | H9: =G9 -> #REF! | I9: =I14+I19+I24 -> 0
E10: средства федерального бюджета | F10: =F15+F20+F25 -> #REF! | G10: =G15+G20+G25 -> #REF! | H10: =H15+H20+H25 -> #REF! | I10: =I15+I20+I25 -> 0
E11: средства областного бюджета | F11: =F16+F21+F26 -> #REF! | G11: =G16+G21+G26 -> #REF! | H11: =H16+H21+H26 -> #REF! | I11: =I16+I21+I26 -> 0
E12: бюджет города | F12: =F22+F17+F27 -> #REF! | G12: =G22+G17+G27 -> #REF! | H12: =H22+H17+H27 -> #REF! | I12: =I22+I17+I27 -> 0
A13: ГРБС Управление образования города
E14: Всего, в том числе: | F14: =F15+F16+F17 -> #REF! | G14: =G15+G16+G17 -> 3138589.9 | H14: =G14 -> 3138589.9 | I14: =I15+I16+I17 -> 0
E15: средства федерального бюджета | F15: =F124+F198+F230+F254+F281+F308 -> 5868.6 | G15: =G124+G198+G230+G254+G281+G308 -> 0 | H15: =H124+H198+H230+H254+H281+H308 -> 0 | I15: =I124+I198+I230+I254+I281+I308 -> 0
E16: средства областного бюджета | F16: =F125+F199+F231+F255+F282+F309 -> #REF! | G16: =G125+G199+G231+G255+G282+G309 -> 3138589.9 | H16: =H125+H199+H231+H255+H282+H309 -> 3138589.9 | I16: =I125+I199+I231+I255+I282+I309 -> 0
E17: бюджет города | F17: =F126+F200+F232+F256+F283+F310 -> #REF! | G17: =G126+G200+G232+G256+G283+G310 -> 0 | H17: =H126+H200+H232+H256+H283+H310 -> 0 | I17: =I126+I200+I232+I256+I283+I310 -> 0
A18: ГРБС Департамент строительства
E19: Всего, в том числе: | F19: =F20+F21+F22 -> #REF! | G19: =G20+G21+G22 -> #REF! | H19: =G19 -> #REF! | I19: =I20+I21+I22 -> 0
E20: средства федерального бюджета | F20: =F128+F202 -> #REF! | G20: =G128+G202 -> #REF! | H20: =H128+H202 -> #REF! | I20: =I128+I202 -> 0
E21: средства областного бюджета | F21: =F129+F203 -> #REF! | G21: =G129+G203 -> #REF! | H21: =H129+H203 -> #REF! | I21: =I129+I203 -> 0
E22: бюджет города | F22: =F130+F204+F236 -> #REF! | G22: =G130+G204+G236 -> #REF! | H22: =H130+H204+H236 -> #REF! | I22: =I130+I204+I236 -> 0
A23: ГРБС Департамент имущественно-земельных отношений
E24: Всего, в том числе: | F24: =F25+F26+F27 -> #REF! | G24: =G25+G26+G27 -> #REF! | H24: =H25+H26+H27 -> #REF! | I24: =I25+I26+I27 -> 0
E25: средства федерального бюджета | F25: =F132 -> #REF! | I25: 0
E26: средства областного бюджета | F26: 0 | I26: 0
E27: бюджет города | F27: =F237+F134 -> #REF! | G27: =G237+G134 -> #REF! | H27: =H237+H134 -> #REF! | I27: =I237+I134 -> 0
A28: 1. Подпрограмма "Развитие дошкольного образования"
A29: 1.1. Основное мероприятие "Обеспечение доступности, совершенствование содержания и технологий образования"
A30: 1.1.1. | B30: Осуществление полномочий по выплате компенсации родительской платы за присмотр и уход за детьми в образовательной организации, реализующей образовательную программу дошкольного образования | C30: Районные отделы образования, образовательные учреждения | D30: 2014-2020 | E30: Средства областного бюджета (0217218) | F30: =Город!P7+Ворошиловский!P7+Железнодорожный!P7+Кировский!P7+Ленинский!P7+Октябрьский!P7+Первомайский!P7+Пролетарский!P7+Советский!P7 -> 116330 | G30: =Город!P7+Ворошиловский!P7+Железнодорожный!P7+Кировский!P7+Ленинский!P7+Октябрьский!P7+Первомайский!P7+Пролетарский!P7+Советский!P7 -> 116330 | H30: =G30 -> 116330 | I30: =Город!Q7+Ворошиловский!Q7+Железнодорожный!Q7+Кировский!Q7+Ленинский!Q7+Октябрьский!Q7+Первомайский!Q7+Пролетарский!Q7+Советский!Q7 -> 0 | J30: 19087 родителей получили компенсацию родительской платы за содержание первого ребенка, 6774 чел.- за второго ребенка, 823 чел.- за содержание третьего ребенка.
A31: 1.1.2. | B31: Обеспечение государственных гарантий реализации прав на получение общедоступного и бесплатного дошкольного образования в муниципальных дошкольных образовательных организациях, включая расходы на оплату труда, приобретение учебников и учебных пособий, средств обучения, игр, игрушек (за исключением расходов на содержание зданий и оплату коммунальных услуг, осуществляемых из местных бюджетов) | C31: Районные отделы образования, образовательные учреждения | D31: 2014-2020 | E31: Средства областного бюджета (0217202) | F31: =Город!P8+Ворошиловский!P8+Железнодорожный!P8+Кировский!P8+Ленинский!P8+Октябрьский!P8+Первомайский!P8+Пролетарский!P8+Советский!P8 -> 2323041.7 | G31: =Город!Q8+Ворошиловский!Q8+Железнодорожный!Q8+Кировский!Q8+Ленинский!Q8+Октябрьский!Q8+Первомайский!Q8+Пролетарский!Q8+Советский!Q8 -> 0 | H31: =Город!R8+Ворошиловский!R8+Железнодорожный!R8+Кировский!R8+Ленинский!R8+Октябрьский!R8+Первомайский!R8+Пролетарский!R8+Советский!R8 -> 0 | I31: =Город!Q8+Ворошиловский!Q8+Железнодорожный!Q8+Кировский!Q8+Ленинский!Q8+Октябрьский!Q8+Первомайский!Q8+Пролетарский!Q8+Советский!Q8 -> 0
A32: 1.1.3. | B32: Обеспечение деятельности (оказание услуг) муниципальных учреждений города Ростова-на-Дону | C32: Районные отделы образования, образовательные учреждения | D32: 2014-2020 | E32: Бюджет города (0210059) | F32: =Город!P9+Ворошиловский!P9+Железнодорожный!P9+Кировский!P9+Ленинский!P9+Октябрьский!P9+Первомайский!P9+Пролетарский!P9+Советский!P9 -> 1660766 | G32: =Город!Q9+Ворошиловский!Q9+Железнодорожный!Q9+Кировский!Q9+Ленинский!Q9+Октябрьский!Q9+Первомайский!Q9+Пролетарский!Q9+Советский!Q9 -> 0 | H32: =Город!R9+Ворошиловский!R9+Железнодорожный!R9+Кировский!R9+Ленинский!R9+Октябрьский!R9+Первомайский!R9+Пролетарский!R9+Советский!R9 -> 0 | I32: =Город!Q9+Ворошиловский!Q9+Железнодорожный!Q9+Кировский!Q9+Ленинский!Q9+Октябрьский!Q9+Первомайский!Q9+Пролетарский!Q9+Советский!Q9 -> 0 | J32: Экономия плановых ассигнований за 2012 год по учреждениям дошкольного образования сложились по: коммунальным услугам (в соответствии с 261 ФЗ от 23.11.2009 Федеральный закон «Об энергосбережении и о повышении энергетической эффективности и о внесении изменений в отдельные законодательные акты Российской Федерации» предусмотрена экономия энергоресурсов в размере 3%); возмещением расходов фондом социального страхования по больничным листам работников общеобразовательных учреждений
A33: 1.1.4. | B33: Обеспечение непредвиденных расходов муниципальных учреждений за счет средств резервного фонда Правительства Ростовской области | C33: Районные отделы образования, образовательные учреждения | D33: 2014-2015 | E33: Средства областного бюджета (0219010) | F33: =Город!P10+Ворошиловский!P10+Железнодорожный!P10+Кировский!P10+Ленинский!P10+Октябрьский!P10+Первомайский!P10+Пролетарский!P10+Советский!P10 -> 2855.3 | G33: =Город!Q10+Ворошиловский!Q10+Железнодорожный!Q10+Кировский!Q10+Ленинский!Q10+Октябрьский!Q10+Первомайский!Q10+Пролетарский!Q10+Советский!Q10 -> 0 | H33: =Город!R10+Ворошиловский!R10+Железнодорожный!R10+Кировский!R10+Ленинский!R10+Октябрьский!R10+Первомайский!R10+Пролетарский!R10+Советский!R10 -> 0 | I33: =Город!Q10+Ворошиловский!Q10+Железнодорожный!Q10+Кировский!Q10+Ленинский!Q10+Октябрьский!Q10+Первомайский!Q10+Пролетарский!Q10+Советский!Q10 -> 0
A34: 1.1.5. | B34: Обеспечение расходов на поощрение муниципальных образований по итогам рейтинговой оценки по привлечению инвестиций | C34: Районные отделы образования, образовательные учреждения | D34: 2014 | E34: Средства областного бюджета (0217102) | F34: =Город!P11+Ворошиловский!P11+Железнодорожный!P11+Кировский!P11+Ленинский!P11+Октябрьский!P11+Первомайский!P11+Пролетарский!P11+Советский!P11 -> 0 | G34: =Город!Q11+Ворошиловский!Q11+Железнодорожный!Q11+Кировский!Q11+Ленинский!Q11+Октябрьский!Q11+Первомайский!Q11+Пролетарский!Q11+Советский!Q11 -> 0 | H34: =Город!R11+Ворошиловский!R11+Железнодорожный!R11+Кировский!R11+Ленинский!R11+Октябрьский!R11+Первомайский!R11+Пролетарский!R11+Советский!R11 -> 0 | I34: =Город!Q11+Ворошиловский!Q11+Железнодорожный!Q11+Кировский!Q11+Ленинский!Q11+Октябрьский!Q11+Первомайский!Q11+Пролетарский!Q11+Советский!Q11 -> 0
A35: 1.1.6. | B35: Проектирование и капремонт муниципальных образовательных учреждений | C35: Департамент строительства | D35: 2014-2015 | E35: Бюджет города (0212008) | F35: =#REF! -> #REF! | G35: =Город!Q16+Ворошиловский!Q16+Железнодорожный!Q16+Кировский!Q16+Ленинский!Q16+Октябрьский!Q16+Первомайский!Q16+Пролетарский!Q16+Советский!Q16 -> 0 | H35: =Город!R16+Ворошиловский!R16+Железнодорожный!R16+Кировский!R16+Ленинский!R16+Октябрьский!R16+Первомайский!R16+Пролетарский!R16+Советский!R16 -> 0
A36: 1.1.7. | B36: Модернизация региональных систем дошкольного образования | C36: Управление образования | D36: 2014-2015 | E36: Средства федерального бюджета (0215059) | F36: =Ворошиловский!P17+Железнодорожный!P17+Кировский!P17+Ленинский!P17+Октябрьский!P17+Первомайский!P17+Пролетарский!P17+Советский!P17 -> 0 | G36: =Ворошиловский!Q17+Железнодорожный!Q17+Кировский!Q17+Ленинский!Q17+Октябрьский!Q17+Первомайский!Q17+Пролетарский!Q17+Советский!Q17 -> 0 | H36: =Ворошиловский!R17+Железнодорожный!R17+Кировский!R17+Ленинский!R17+Октябрьский!R17+Первомайский!R17+Пролетарский!R17+Советский!R17 -> 0 | I36: =Город!Q17+Ворошиловский!Q17+Железнодорожный!Q17+Кировский!Q17+Ленинский!Q17+Октябрьский!Q17+Первомайский!Q17+Пролетарский!Q17+Советский!Q17 -> 0
C37: Департамент строительства | F37: =#REF! -> #REF!
C38: МКУ Фонд имущества г.Ростова-на-Дону | F38: =#REF! -> #REF! | I38: 0
A39: 1.1.8. | B39: Софинансирование расходов на модернизацию региональных систем дошкольного образования | C39: Управление образования | D39: 2014-2015 | E39: Бюджет города (0218059) | F39: =Ворошиловский!P18+Железнодорожный!P18+Кировский!P18+Ленинский!P18+Октябрьский!P18+Первомайский!P18+Пролетарский!P18+Советский!P18 -> 0 | G39: =Советский!Q18 -> 0 | H39: =Советский!R18 -> 0 | I39: =Город!Q18+Ворошиловский!Q18+Железнодорожный!Q18+Кировский!Q18+Ленинский!Q18+Октябрьский!Q18+Первомайский!Q18+Пролетарский!Q18+Советский!Q18 -> 0
C40: Департамент строительства | F40: =#REF! -> #REF!
...

Sheet Город
A1: Городские учреждения
A2: № п/п | B2: Наименование мероприятий Программы | C2: Сроки выполнения | D2: Исполнители | E2: Источник расходов | F2: 2018
G3: Свод 1 | O3: Изменено | P3: 2019 | Q3: Исполнено (кассовый расход) за 2015 год
A4: 1 | B4: 2 | C4: 3 | D4: 4 | E4: 5 | F4: 7
A5: 1. Подпрограмма "Развитие дошкольного образования"
A6: 1.1. Основное мероприятие "Обеспечение доступности, совершенствование содержания и технологий образования"
A7: 1.1.1. | B7: Осуществление полномочий по выплате компенсации родительской платы за присмотр и уход за детьми в образовательной организации, реализующей образовательную программу дошкольного образования | C7: 2014-2020 | D7: Районные отделы образования, образовательные организации | E7: Средства областного бюджета (0217218, 0210172180) | F7: 15797.3 | O7: =SUM(G7:N7) -> 0 | P7: =F7+O7 -> 15797.3
A8: 1.1.2. | B8: Обеспечение государственных гарантий реализации прав на получение общедоступного и бесплатного дошкольного образования в муниципальных дошкольных образовательных организациях, включая расходы на оплату труда, приобретение учебников и учебных пособий, средств обучения, игр, игрушек (за исключением расходов на содержание зданий и оплату коммунальных услуг, осуществляемых из местных бюджетов) | C8: 2014-2020 | D8: Районные отделы образования, образовательные организации | E8: Средства областного бюджета (0210172020) | F8: 450867.2 | O8: =SUM(G8:N8) -> 0 | P8: =F8+O8 -> 450867.2
A9: 1.1.3. | B9: Обеспечение деятельности (оказание услуг) муниципальных учреждений города Ростова-на-Дону | C9: 2014-2020 | D9: Районные отделы образования, образовательные организации | E9: Бюджет города 0210100590 | F9: -127116.6 | G9: =-58.3-118.1 -> -176.4 | H9: =-3685.9-423.6 -> -4109.5 | O9: =SUM(G9:N9) -> -4285.9 | P9: =F9+O9 -> -131402.5
A10: 1.1.4. | B10: Обеспечение непредвиденных расходов муниципальных учреждений за счет средств резервного фонда Правительства Ростовской области | C10: 2014-2015 | D10: Районные отделы образования, образовательные организации | E10: Средства областного бюджета (0219010, 0210171180) | F10: -1935.7 | O10: =SUM(G10:N10) -> 0 | P10: =F10+O10 -> -1935.7
A11: 1.1.5. | B11: Обеспечение расходов на поощрение муниципальных образований по итогам рейтинговой оценки по привлечению инвестиций | C11: 2014 | D11: Районные отделы образования, образовательные организации | E11: Средства областного бюджета (0217102) | F11: 0 | O11: =SUM(G11:N11) -> 0 | P11: =F11+O11 -> 0
A12: 1.1.7. | B12: Капитальный ремонт муниципальных образовательных учреждений (за исключением аварийных) | C12: 2014 | D12: Департамент строительства | E12: Средства областного бюджета (0217308) | J12: повтор брак | O12: =SUM(G12:N12) -> 0 | P12: =F12+O12 -> 0 | S12: скрыто по всем районам повтор брак
C13: 2014 | D13: Управление образования | E13: Средства областного бюджета (0217308) | J13: повтор брак | O13: =SUM(G13:N13) -> 0 | P13: =F13+O13 -> 0 | S13: повтор брак
A14: 1.1.8. | B14: Софинансирование расходов на капитальный ремонт муниципальных образовательных учреждений (за исключением аварийных) | C14: 2014 | D14: Департамент строительства | E14: Бюджет города (0218308) | J14: повтор брак | O14: =SUM(G14:N14) -> 0 | P14: =F14+O14 -> 0 | S14: повтор брак
C15: 2014 | D15: Управление образования | E15: Бюджет города (0218308) | J15: повтор брак | O15: =SUM(G15:N15) -> 0 | P15: =F15+O15 -> 0 | S15: повтор брак
A16: 1.1.6. | B16: Проектирование и капремонт муниципальных образовательных учреждений | C16: 2014-2015 | D16: Департамент строительства | E16: Бюджет города (0212008) | O16: =SUM(G16:N16) -> 0 | P16: =F16+O16 -> 0
A17: 1.1.7. | B17: Модерницация региональных сиситем дошкольного образования | C17: 2014-2015 | D17: Управление образования | E17: Средства федерального бюджета (0215059) | O17: =SUM(G17:N17) -> 0 | P17: =F17+O17 -> 0
A18: 1.1.8. | B18: Софинансирование расходов на модерницацию региональных сиситем дошкольного образования | C18: 2014-2015 | D18: Управление образования | E18: Бюджет города (0218059) | O18: =SUM(G18:N18) -> 0 | P18: =F18+O18 -> 0
A19: 1.1.9. | B19: Расходы на приобретение модульных детских садов | C19: 2015 | D19: Управление образования | E19: Средства областного бюджета (0217378) | O19: =SUM(G19:N19) -> 0 | P19: =F19+O19 -> 0
A20: 1.1.10. | B20: Софинансирование расходов на приобретение модульных детских садов | C20: 2015 | D20: Управление образования | E20: Бюджет города (0218378) | O20: =SUM(G20:N20) -> 0 | P20: =F20+O20 -> 0
A21: 1.1.11. | B21: Обследование объектов, требующих улучшения материально-технической базы муниципальных дошкольных образовательных организаций, уточнение реестра | C21: 2014-2020 | D21: Управление образования, районные отделы образования | E21: Финансирование не требуется
A22: 1.1.12. | B22: Реализация проекта "Ранняя медико-психолого-педагогическая помощь детям от 0 до 3 лет" | C22: 2014-2020 | D22: Районные отделы образования, образовательные организации | E22: Финансирование не требуется
A23: 1.1.13. | B23: Реализация проекта "Психолого-педагогическое сопровождение детей с использованием современных компьютерных технологий " на базе оснащения дошкольных образовательных организаций | C23: 2014-2020 | D23: Районные отделы образования, образовательные организации | E23: Финансирование не требуется
A24: 1.1.14. | B24: Внедрение проекта "Археология для малышей" в рамках реализации образовательной программы "По ступенькам истории" | C24: 2014-2020 | D24: Районные отделы образования, образовательные организации | E24: Финансирование не требуется
A25: 1.1.15. | B25: Реализация проекта "Безопасная дорога" совместно со службами Государственной инспекции безопасности дорожного движения. | C25: 2014-2020 | D25: Управление образования, районные отделы образования, образовательные организации | E25: Финансирование не требуется
A26: 1.1.16. | B26: Мониторинг состояния и развития системы образования детей дошкольного возраста | C26: 2014-2020 | D26: Управление образования, районные отделы образования, образовательные организации | E26: Финансирование не требуется
A27: 1.1.17. | B27: Разработка и реализация образовательных программ в муниципальных дошкольных образовательных организациях в соответствии с федеральными государственными требованиями. | C27: 2014-2020 | D27: Районные отделы образования, образовательные организации | E27: Финансирование не требуется
A28: 1.1.18. | B28: Использование современных компьютерных технологий в процессе психолого-педагогического сопровождения детей | C28: 2014-2020 | D28: Районные отделы образования, образовательные организации | E28: Финансирование не требуется
A29: 1.1.19. | B29: Разработка и выполнение мероприятий по энергосбережению, с предварительным изучением рынка предложений специализированных организаций. | C29: 2014-2020 | D29: Районные отделы образования, образовательные организации | E29: Финансирование не требуется
A30: Итого по основному мероприятию "Обеспечение доступности, совершенствование содержания и технологий дошкольного образования"
A31: а | B31: ГРБС Управление образования города | F31: =F32+F33+F34 -> 337612.2 | O31: =O32+O33+O34 -> -4285.9 | P31: =P32+P33+P34 -> 333326.3 | Q31: =Q32+Q33+Q34 -> 0
A32: б | B32: средства федерального бюджета | F32: =F17 -> 0 | O32: =O17 -> 0 | P32: =F32+O32 -> 0 | Q32: =Q17 -> 0
A33: в | B33: средства областного бюджета | F33: =F7+F8+F10+F11+F19 -> 464728.8 | O33: =O7+O8+O10+O11+O19 -> 0 | P33: =F33+O33 -> 464728.8 | Q33: =Q7+Q8+Q10+Q11+Q19 -> 0 | S33: =O33-P33 -> -464728.8
A34: г | B34: бюджет города | F34: =F9+F18+F20 -> -127116.6 | O34: =O9+O15+O18+O20 -> -4285.9 | P34: =F34+O34 -> -131402.5 | Q34: =Q9+Q18+Q20 -> 0
A35: и | B35: Основное мероприятие 1.1 | F35: =F36+F37+F38 -> 337612.2 | O35: =O36+O37+O38 -> -4285.9 | P35: =P36+P37+P38 -> 333326.3 | Q35: =Q36+Q37+Q38 -> 0
A36: к | B36: средства федерального бюджета | F36: =F32 -> 0 | O36: =O32 -> 0 | P36: =P32 -> 0 | Q36: =Q32 -> 0
A37: л | B37: средства областного бюджета | F37: =F33 -> 464728.8 | O37: =O33 -> 0 | P37: =P33 -> 464728.8 | Q37: =Q33 -> 0
A38: м | B38: бюджет города | F38: =F34 -> -127116.6 | O38: =O34 -> -4285.9 | P38: =P34 -> -131402.5 | Q38: =Q34 -> 0
A39: 1.2. Основное мероприятие "Строительство объектов образования"
A40: 1.2.1. | B40: Строительство новых и реконструкция зданий образовательных организаций в соответствии с реестром, (Приложение 1 к программе) | C40: 2014-2016 | D40: Департамент строительства | E40: Бюджет города | F40: 0 | O40: =SUM(G40:N40) -> 0 | P40: =F40+O40 -> 0
...

Sheet 2019
B2: КФСР | C2: Доп. КР | D2: КЦСР | E2: КВР | F2: Управление образования | G2: Метод. центр | H2: Ворошиловский | I2: Железнодорожный | J2: Кировский | K2: Ленинский | L2: Октябрьский | M2: Первомайский | N2: Пролетарский | O2: Советский | P2: Итого
A3: 907 | B3: 0701 | F3: =F4+F12 -> 5419 | G3: =G4+G12 -> 0 | H3: =H4+H12 -> 697201 | I3: =I4+I12 -> 321029.8 | J3: =J4+J12 -> 248762.9 | K3: =K4+K12 -> 182986.2 | L3: =L4+L12 -> 531290 | M3: =M4+M12 -> 735401.4 | ... P3: =P4+P12 -> 3996393.9 | S3: =P4+P12 -> 3996393.9 | T3: =S3 -> 3996393.9
A4: 907 | B4: 0701 | C4: 01 | F4: =SUM(F5:F11) -> 0 | G4: =SUM(G5:G11) -> 0 | H4: =SUM(H5:H11) -> 394626.8 | I4: =SUM(I5:I11) -> 186554.2 | J4: =SUM(J5:J11) -> 136773 | K4: =SUM(K5:K11) -> 103041.3 | L4: =SUM(L5:L11) -> 293887.3 | M4: =SUM(M5:M11) -> 404349.9 | ... P4: =SUM(P5:P11) -> 2265241.9 | Q4: =P4 -> 2265241.9
A5: 907 | B5: 0701 | C5: 01 | D5: 0210172020 | E5: 111 | H5: 5647.7 | N5: 6796 | P5: =SUM(F5:O5) -> 12443.7 | Q5: =P5+P6+P7+P8+P9+P10 -> 2250999.5
A6: 907 | B6: 0701 | C6: 01 | D6: 0210172020 | E6: 112 | N6: 2.7 | P6: =SUM(F6:O6) -> 2.7
A7: 907 | B7: 0701 | C7: 01 | D7: 0210172020 | E7: 119 | H7: 1705.7 | N7: 2052.2 | P7: =SUM(F7:O7) -> 3757.9
A8: 907 | B8: 0701 | C8: 01 | D8: 0210172020 | E8: 244 | N8: 100 | P8: =SUM(F8:O8) -> 100
A9: 907 | B9: 0701 | C9: 01 | D9: 0210172020 | E9: 611 | H9: 244901.5 | I9: 186554.2 | J9: 136773 | K9: 60890.1 | L9: 253508.4 | M9: 338904.4 | N9: 176538.9 | O9: 470587.8 | P9: =SUM(F9:O9) -> 1868658.3
A10: 907 | B10: 0701 | C10: 01 | D10: 0210172020 | E10: 621 | H10: 142371.9 | K10: 42151.2 | L10: 40378.9 | M10: 65445.5 | N10: 63180.9 | O10: 12508.5 | P10: =SUM(F10:O10) -> 366036.9
A11: 907 | B11: 0701 | C11: 01 | D11: 02102L1590 | E11: 612 | O11: 14242.4 | P11: =SUM(F11:O11) -> 14242.4 | Q11: =P11 -> 14242.4
A12: 907 | B12: 0701 | C12: 02 | F12: =SUM(F13:F25) -> 5419 | G12: =SUM(G13:G25) -> 0 | H12: =SUM(H13:H25) -> 302574.2 | I12: =SUM(I13:I25) -> 134475.6 | J12: =SUM(J13:J25) -> 111989.9 | K12: =SUM(K13:K25) -> 79944.9 | L12: =SUM(L13:L25) -> 237402.7 | M12: =SUM(M13:M25) -> 331051.5 | ... P12: =SUM(P13:P25) -> 1731152 | Q12: =P12 -> 1731152
A13: 907 | B13: 0701 | C13: 02 | D13: 0210100590 | E13: 111 | H13: 1398.8 | N13: 1212.2 | P13: =SUM(F13:O13) -> 2611
A14: 907 | B14: 0701 | C14: 02 | D14: 0210100590 | E14: 119 | H14: 422.5 | N14: 366.1 | P14: =SUM(F14:O14) -> 788.6
A15: 907 | B15: 0701 | C15: 02 | D15: 0210100590 | E15: 243 | P15: =SUM(F15:O15) -> 0
A16: 907 | B16: 0701 | C16: 02 | D16: 0210100590 | E16: 244 | H16: 4075.1 | N16: 5851.3 | P16: =SUM(F16:O16) -> 9926.4
A17: 907 | B17: 0701 | C17: 02 | D17: 0210100590 | E17: 611 | H17: 188064.8 | I17: 134025.9 | J17: 98476.5 | K17: 44646.5 | L17: =183518.8+11172.4 -> 194691.2 | M17: 262223.3 | N17: 139078.5 | O17: 309756.5 | P17: =SUM(F17:O17) -> 1370963.2
A18: 907 | B18: 0701 | C18: 02 | D18: 0210100590 | E18: 612 | H18: 6001.4 | I18: 449.7 | J18: 13513.4 | L18: =15477-L24 -> 10674.2 | M18: =15819.2-M24 -> 11363 | N18: =4439.2 -> 4439.2 | O18: =5681-O24 -> 3940.7 | P18: =SUM(F18:O18) -> 50381.6
A19: 907 | B19: 0701 | C19: 02 | D19: 0210100590 | E19: 621 | H19: 100721.3 | K19: 34560.1 | L19: 26869.5 | M19: 53009 | N19: 52190.2 | O19: 8876.8 | P19: =SUM(F19:O19) -> 276226.9
A20: 907 | B20: 0701 | C20: 02 | D20: 0210100590 | E20: 622 | H20: 734.3 | K20: 738.3 | L20: 365 | P20: =SUM(F20:O20) -> 1837.6
A21: 907 | B21: 0701 | C21: 02 | D21: 0210100590 | E21: 851 | H21: 1156 | N21: 842.4 | P21: =SUM(F21:O21) -> 1998.4
A22: 907 | B22: 0701 | C22: 02 | D22: 0210100590 | E22: 852 | P22: =SUM(F22:O22) -> 0
A23: 907 | B23: 0701 | C23: 02 | D23: 2100121670 | E23: 243 | P23: =SUM(F23:O23) -> 0
A24: 907 | B24: 0701 | C24: 02 | D24: 2100121670 | E24: 612 | F24: 5419 | L24: =1823.5+2979.3 -> 4802.8 | M24: =2022.7+2433.5 -> 4456.2 | O24: =1740.3 -> 1740.3 | P24: =SUM(F24:O24) -> 16418.3
A25: 907 | B25: 0701 | C25: 02 | D25: 2100121670 | E25: 622 | P25: =SUM(F25:O25) -> 0
A26: 907 | B26: 0702 | F26: =F27+F37 -> 19965.5 | G26: =G27+G37 -> 0 | H26: =H27+H37 -> 905958.7 | I26: =I27+I37 -> 365458.2 | J26: =J27+J37 -> 224086.3 | K26: =K27+K37 -> 295056.1 | L26: =L27+L37 -> 789264.7 | M26: =M27+M37 -> 697855.6 | ... P26: =P27+P37 -> 4742417.2 | S26: =P27+P37 -> 4742417.2 | T26: =S26-P50-P51 -> 4732311.8
A27: 907 | B27: 0702 | C27: 01 | F27: =SUM(F28:F36) -> 8368.7 | G27: =SUM(G28:G36) -> 0 | H27: =SUM(H28:H36) -> 655383.2 | I27: =SUM(I28:I36) -> 261942.5 | J27: =SUM(J28:J36) -> 152909.8 | K27: =SUM(K28:K36) -> 209232.1 | L27: =SUM(L28:L36) -> 404360 | M27: =SUM(M28:M36) -> 501020 | ... P27: =SUM(P28:P36) -> 3040806.4 | Q27: =P27 -> 3040806.4
A28: 907 | B28: 0702 | C28: 01 | D28: 0220172030 | E28: 111 | P28: =SUM(F28:O28) -> 0
A29: 907 | B29: 0702 | C29: 01 | D29: 0220172030 | E29: 119 | P29: =SUM(F29:O29) -> 0
A30: 907 | B30: 0702 | C30: 01 | D30: 0220172030 | E30: 244 | P30: =SUM(F30:O30) -> 0
A31: 907 | B31: 0702 | C31: 01 | D31: 0220172030 | E31: 611 | H31: 498703.2 | I31: 88001.3 | J31: 109260.7 | K31: 160678.5 | L31: =5908.3+313849.1 -> 319757.4 | M31: 501020 | N31: 302608.6 | O31: 451807.1 | P31: =SUM(F31:O31) -> 2431836.8
A32: 907 | B32: 0702 | C32: 01 | D32: 0220172030 | E32: 621 | H32: 156680 | I32: =7087.1+166854.1 -> 173941.2 | J32: 43649.1 | K32: 48553.6 | L32: 84602.6 | N32: 40162.7 | O32: 53011.7 | P32: =SUM(F32:O32) -> 600600.9
A33: 907 | B33: 0702 | C33: 01 | D33: 02201S3110 | E33: 244 | F33: 8368.7 | P33: =SUM(F33:O33) -> 8368.7
A34: 907 | B34: 0702 | C34: 01 | D34: 02201S3270 | E34: 612 | P34: =SUM(F34:O34) -> 0
A35: 907 | B35: 0702 | C35: 01 | D35: 02201S3270 | E35: 622 | P35: =SUM(F35:O35) -> 0
A36: 907 | B36: 0702 | C36: 01 | D36: 02201S3740 | E36: 612 | P36: =SUM(F36:O36) -> 0
A37: 907 | B37: 0702 | C37: 02 | F37: =SUM(F38:F51) -> 11596.8 | G37: =SUM(G38:G51) -> 0 | H37: =SUM(H38:H51) -> 250575.5 | I37: =SUM(I38:I51) -> 103515.7 | J37: =SUM(J38:J51) -> 71176.5 | K37: =SUM(K38:K51) -> 85824 | L37: =SUM(L38:L51) -> 384904.7 | M37: =SUM(M38:M51) -> 196835.6 | ... P37: =SUM(P38:P51) -> 1701610.8 | Q37: =P38+P39+P40+P41+P42+P43+P44+P45+P46+P47+P48 -> 1691505.4
A38: 907 | B38: 0702 | C38: 02 | D38: 0220100590 | E38: 611 | H38: 137064.7 | I38: 22062.3 | J38: 31934.9 | K38: 50866 | L38: 106524.6 | M38: 139703.2 | N38: 84765.6 | O38: 130264.2 | P38: =SUM(F38:O38) -> 703185.5
A39: 907 | B39: 0702 | C39: 02 | D39: 0220100590 | E39: 612 | F39: 1639.5 | H39: 40228.9 | I39: 10438.7 | J39: 20477 | K39: 17182 | L39: 108986.5 | M39: =57132.4-M50 -> 50833.9 | N39: 86873.2 | O39: =227721.3-O50 -> 225694.3 | P39: =SUM(F39:O39) -> 562354
A40: 907 | B40: 0702 | C40: 02 | D40: 0220100590 | E40: 621 | H40: 51740.2 | I40: 61939.8 | J40: 16008.6 | K40: 13759.1 | L40: 67717.4 | N40: 14229.9 | O40: 50005 | P40: =SUM(F40:O40) -> 275400
A41: 907 | B41: 0702 | C41: 02 | D41: 0220100590 | E41: 622 | H41: 19761.8 | I41: 9074.9 | J41: 2756 | K41: 4016.9 | L41: 101676.2 | N41: 670.2 | O41: 2652.6 | P41: =SUM(F41:O41) -> 140608.6
...

Sheet 2020
B2: КФСР | C2: Доп. КР | D2: КЦСР | E2: КВР | F2: Управление образования | G2: Метод. центр | H2: Ворошиловский | I2: Железнодорожный | J2: Кировский | K2: Ленинский | L2: Октябрьский | M2: Первомайский | N2: Пролетарский | O2: Советский | P2: Итого
A3: 907 | B3: 0701 | F3: =F4+F12 -> 5419 | G3: =G4+G12 -> 0 | H3: =H4+H12 -> 727544.9 | I3: =I4+I12 -> 334725.2 | J3: =J4+J12 -> 249825 | K3: =K4+K12 -> 190657.6 | L3: =L4+L12 -> 539739.4 | M3: =M4+M12 -> 752110.9 | ... P3: =P4+P12 -> 4170621.5
A4: 907 | B4: 0701 | C4: 01 | F4: =SUM(F5:F11) -> 0 | G4: =SUM(G5:G11) -> 0 | H4: =SUM(H5:H11) -> 423594 | I4: =SUM(I5:I11) -> 200066.3 | J4: =SUM(J5:J11) -> 146670.3 | K4: =SUM(K5:K11) -> 110493.7 | L4: =SUM(L5:L11) -> 315210.4 | M4: =SUM(M5:M11) -> 433535.2 | ... P4: =SUM(P5:P11) -> 2414990.8
A5: 907 | B5: 0701 | C5: 01 | D5: 0210172020 | E5: 111 | H5: 6060.6 | N5: 7157.3 | P5: =SUM(F5:O5) -> 13217.9
A6: 907 | B6: 0701 | C6: 01 | D6: 0210172020 | E6: 112 | N6: 3 | P6: =SUM(F6:O6) -> 3
A7: 907 | B7: 0701 | C7: 01 | D7: 0210172020 | E7: 119 | H7: 1830.3 | N7: 2448 | P7: =SUM(F7:O7) -> 4278.3
A8: 907 | B8: 0701 | C8: 01 | D8: 0210172020 | E8: 244 | P8: =SUM(F8:O8) -> 0
A9: 907 | B9: 0701 | C9: 01 | D9: 0210172020 | E9: 611 | H9: 262610 | I9: 200066.3 | J9: 146670.3 | K9: 65302.7 | L9: 271900.7 | M9: 363379.2 | N9: 189290.2 | O9: 505380.6 | P9: =SUM(F9:O9) -> 2004600
A10: 907 | B10: 0701 | C10: 01 | D10: 0210172020 | E10: 621 | H10: 153093.1 | K10: 45191 | L10: 43309.7 | M10: 70156 | N10: 67731 | O10: 13410.8 | P10: =SUM(F10:O10) -> 392891.6
A11: 907 | B11: 0701 | C11: 01 | D11: 02102L1590 | E11: 612 | P11: =SUM(F11:O11) -> 0
A12: 907 | B12: 0701 | C12: 02 | F12: =SUM(F13:F25) -> 5419 | G12: =SUM(G13:G25) -> 0 | H12: =SUM(H13:H25) -> 303950.9 | I12: =SUM(I13:I25) -> 134658.9 | J12: =SUM(J13:J25) -> 103154.7 | K12: =SUM(K13:K25) -> 80163.9 | L12: =SUM(L13:L25) -> 224529 | M12: =SUM(M13:M25) -> 318575.7 | ... P12: =SUM(P13:P25) -> 1755630.7
A13: 907 | B13: 0701 | C13: 02 | D13: 0210100590 | E13: 111 | H13: 1398.8 | N13: 1212.2 | P13: =SUM(F13:O13) -> 2611
A14: 907 | B14: 0701 | C14: 02 | D14: 0210100590 | E14: 119 | H14: 422.5 | N14: 366.1 | P14: =SUM(F14:O14) -> 788.6
A15: 907 | B15: 0701 | C15: 02 | D15: 0210100590 | E15: 243 | P15: =SUM(F15:O15) -> 0
A16: 907 | B16: 0701 | C16: 02 | D16: 0210100590 | E16: 244 | H16: 4137.9 | N16: 5908.1 | P16: =SUM(F16:O16) -> 10046
A17: 907 | B17: 0701 | C17: 02 | D17: 0210100590 | E17: 611 | H17: 188626.9 | I17: 134089.2 | J17: 100532.5 | K17: 44730.9 | L17: =183821.3+11172.4 -> 194993.7 | M17: 262706.8 | N17: 141776.9 | O17: =310320.2+36283.1 -> 346603.3 | P17: =SUM(F17:O17) -> 1414060.2
A18: 907 | B18: 0701 | C18: 02 | D18: 0210100590 | E18: 612 | H18: =4583.4-H24 -> 2523.4 | I18: =569.7-I24 -> 449.7 | J18: 2622.2 | K18: 0 | L18: =2291.1-L24 -> 2231.1 | M18: =2759.4-M24 -> 1179.4 | N18: 5442.9 | O18: =22560-O24 -> 18500 | P18: =SUM(F18:O18) -> 32948.7
A19: 907 | B19: 0701 | C19: 02 | D19: 0210100590 | E19: 621 | H19: 100832.8 | K19: 34694.7 | L19: 26879.2 | M19: 53109.5 | N19: 51518.5 | O19: 8951.8 | P19: =SUM(F19:O19) -> 275986.5
A20: 907 | B20: 0701 | C20: 02 | D20: 0210100590 | E20: 622 | H20: 734.3 | K20: 738.3 | L20: 365 | P20: =SUM(F20:O20) -> 1837.6
A21: 907 | B21: 0701 | C21: 02 | D21: 0210100590 | E21: 851 | H21: 1154.3 | N21: 838.8 | P21: =SUM(F21:O21) -> 1993.1
A22: 907 | B22: 0701 | C22: 02 | D22: 0210100590 | E22: 852 | P22: =SUM(F22:O22) -> 0
A23: 907 | B23: 0701 | C23: 02 | D23: 2100121670 | E23: 243 | H23: 2060 | P23: =SUM(F23:O23) -> 2060
A24: 907 | B24: 0701 | C24: 02 | D24: 2100121670 | E24: 612 | F24: 5419 | H24: =2060 -> 2060 | I24: =60+60 -> 120 | L24: 60 | M24: =1580 -> 1580 | O24: =2060+2000 -> 4060 | P24: =SUM(F24:O24) -> 13299
A25: 907 | B25: 0701 | C25: 02 | D25: 2100121670 | E25: 622 | P25: =SUM(F25:O25) -> 0
A26: 907 | B26: 0702 | F26: =F27+F37 -> 40271 | G26: =G27+G37 -> 0 | H26: =H27+H37 -> 979485.5 | I26: =I27+I37 -> 380422.5 | J26: =J27+J37 -> 219598.1 | K26: =K27+K37 -> 297065.5 | L26: =L27+L37 -> 616556.4 | M26: =M27+M37 -> 767215.6 | ... P26: =P27+P37 -> 4523945.9
A27: 907 | B27: 0702 | C27: 01 | F27: =SUM(F28:F36) -> 8368.7 | G27: =SUM(G28:G36) -> 0 | H27: =SUM(H28:H36) -> 694986.3 | I27: =SUM(I28:I36) -> 273664.4 | J27: =SUM(J28:J36) -> 164160 | K27: =SUM(K28:K36) -> 218939.3 | L27: =SUM(L28:L36) -> 428170.5 | M27: =SUM(M28:M36) -> 529860 | ... P27: =SUM(P28:P36) -> 3209068.7
A28: 907 | B28: 0702 | C28: 01 | D28: 0220172030 | E28: 111 | P28: =SUM(F28:O28) -> 0
A29: 907 | B29: 0702 | C29: 01 | D29: 0220172030 | E29: 119 | P29: =SUM(F29:O29) -> 0
A30: 907 | B30: 0702 | C30: 01 | D30: 0220172030 | E30: 244 | P30: =SUM(F30:O30) -> 0
A31: 907 | B31: 0702 | C31: 01 | D31: 0220172030 | E31: 611 | H31: 521752.2 | I31: 92047.8 | J31: 114312.1 | K31: 168052 | L31: =6105.9+328155.3 -> 334261.2 | M31: 523945.4 | N31: 316292 | O31: 472513.2 | P31: =SUM(F31:O31) -> 2543175.9
A32: 907 | B32: 0702 | C32: 01 | D32: 0220172030 | E32: 621 | H32: 165033 | I32: =7320.8+174295.8 -> 181616.6 | J32: 45630.3 | K32: 50887.3 | L32: 88439.1 | N32: 42198.9 | O32: 55344.3 | P32: =SUM(F32:O32) -> 629149.5
A33: 907 | B33: 0702 | C33: 01 | D33: 02201S3110 | E33: 244 | F33: 8368.7 | P33: =SUM(F33:O33) -> 8368.7
A34: 907 | B34: 0702 | C34: 01 | D34: 02201S3270 | E34: 612 | H34: 907 | N34: 688 | O34: 1080 | P34: =SUM(F34:O34) -> 2675
A35: 907 | B35: 0702 | C35: 01 | D35: 02201S3270 | E35: 622 | L35: 1434.5 | P35: =SUM(F35:O35) -> 1434.5
A36: 907 | B36: 0702 | C36: 01 | D36: 02201S3740 | E36: 612 | H36: 7294.1 | J36: 4217.6 | L36: 4035.7 | M36: 5914.6 | N36: 843.4 | O36: 1959.7 | P36: =SUM(F36:O36) -> 24265.1
A37: 907 | B37: 0702 | C37: 02 | F37: =SUM(F38:F51) -> 31902.3 | G37: =SUM(G38:G51) -> 0 | H37: =SUM(H38:H51) -> 284499.2 | I37: =SUM(I38:I51) -> 106758.1 | J37: =SUM(J38:J51) -> 55438.1 | K37: =SUM(K38:K51) -> 78126.2 | L37: =SUM(L38:L51) -> 188385.9 | M37: =SUM(M38:M51) -> 237355.6 | ... P37: =SUM(P38:P51) -> 1314877.2
A38: 907 | B38: 0702 | C38: 02 | D38: 0220100590 | E38: 611 | H38: 132775 | I38: 21919 | J38: 31995.4 | K38: 50318.4 | L38: 101651.3 | M38: 135650.8 | N38: 82616.3 | O38: 127607.4 | P38: =SUM(F38:O38) -> 684533.6
A39: 907 | B39: 0702 | C39: 02 | D39: 0220100590 | E39: 612 | F39: 1639.5 | H39: 90741.7 | I39: =12498.7-I50 -> 10438.7 | J39: 6593.2 | K39: 9910.1 | L39: 20037.5 | M39: 99464.8 | N39: 17844.1 | O39: 30134.3 | P39: =SUM(F39:O39) -> 286803.9
A40: 907 | B40: 0702 | C40: 02 | D40: 0220100590 | E40: 621 | H40: 50956.2 | I40: 57091.4 | J40: 14093.5 | K40: 13880.8 | L40: 62548.6 | N40: 39364.7 | O40: 30830.6 | P40: =SUM(F40:O40) -> 268765.8
A41: 907 | B41: 0702 | C41: 02 | D41: 0220100590 | E41: 622 | H41: 7336.6 | I41: 15249 | J41: 2756 | K41: 4016.9 | L41: 1968.5 | N41: 670.2 | O41: 2652.6 | P41: =SUM(F41:O41) -> 34649.8
...

Sheet 2021
B3: КФСР | C3: Доп. КР | D3: КЦСР | E3: КВР | F3: Управление образования | G3: Метод. центр | H3: Ворошиловский | I3: Железнодорожный | J3: Кировский | K3: Ленинский | L3: Октябрьский | M3: Первомайский | N3: Пролетарский | O3: Советский | P3: Итого
A4: 907 | B4: 0701 | F4: =F5+F13 -> 5419 | G4: =G5+G13 -> 0 | H4: =H5+H13 -> 728505.3 | I4: =I5+I13 -> 343462.3 | J4: =J5+J13 -> 249919.8 | K4: =K5+K13 -> 193201.6 | L4: =L5+L13 -> 573120.8 | M4: =M5+M13 -> 766754.5 | ... P4: =P5+P13 -> 4231095.2
A5: 907 | B5: 0701 | C5: 01 | F5: =SUM(F6:F12) -> 0 | G5: =SUM(G6:G12) -> 0 | H5: =SUM(H6:H12) -> 423594 | I5: =SUM(I6:I12) -> 200066.3 | J5: =SUM(J6:J12) -> 146670.3 | K5: =SUM(K6:K12) -> 110493.7 | L5: =SUM(L6:L12) -> 315210.4 | M5: =SUM(M6:M12) -> 433535.2 | ... P5: =SUM(P6:P12) -> 2414990.8
A6: 907 | B6: 0701 | C6: 01 | D6: 0210172020 | E6: 111 | H6: 6060.6 | N6: 7157.3 | P6: =SUM(F6:O6) -> 13217.9
A7: 907 | B7: 0701 | C7: 01 | D7: 0210172020 | E7: 112 | N7: 3 | P7: =SUM(F7:O7) -> 3
A8: 907 | B8: 0701 | C8: 01 | D8: 0210172020 | E8: 119 | H8: 1830.3 | N8: 2448 | P8: =SUM(F8:O8) -> 4278.3
A9: 907 | B9: 0701 | C9: 01 | D9: 0210172020 | E9: 244 | P9: =SUM(F9:O9) -> 0
A10: 907 | B10: 0701 | C10: 01 | D10: 0210172020 | E10: 611 | H10: 262610 | I10: 200066.3 | J10: 146670.3 | K10: 65302.7 | L10: 271900.7 | M10: 363379.2 | N10: 189290.2 | O10: 505380.6 | P10: =SUM(F10:O10) -> 2004600
A11: 907 | B11: 0701 | C11: 01 | D11: 0210172020 | E11: 621 | H11: 153093.1 | K11: 45191 | L11: 43309.7 | M11: 70156 | N11: 67731 | O11: 13410.8 | P11: =SUM(F11:O11) -> 392891.6
A12: 907 | B12: 0701 | C12: 01 | D12: 02102L1590 | E12: 612 | P12: =SUM(F12:O12) -> 0
A13: 907 | B13: 0701 | C13: 02 | F13: =SUM(F14:F26) -> 5419 | G13: =SUM(G14:G26) -> 0 | H13: =SUM(H14:H26) -> 304911.3 | I13: =SUM(I14:I26) -> 143396 | J13: =SUM(J14:J26) -> 103249.5 | K13: =SUM(K14:K26) -> 82707.9 | L13: =SUM(L14:L26) -> 257910.4 | M13: =SUM(M14:M26) -> 333219.3 | ... P13: =SUM(P14:P26) -> 1816104.4
A14: 907 | B14: 0701 | C14: 02 | D14: 0210100590 | E14: 111 | H14: 1398.8 | N14: 1212.2 | P14: =SUM(F14:O14) -> 2611
A15: 907 | B15: 0701 | C15: 02 | D15: 0210100590 | E15: 119 | H15: 422.5 | N15: 366.1 | P15: =SUM(F15:O15) -> 788.6
A16: 907 | B16: 0701 | C16: 02 | D16: 0210100590 | E16: 243 | P16: =SUM(F16:O16) -> 0
